BEGIN:VCALENDAR
VERSION:2.0
PRODID:-//Special Compass - ECPv5.1.6//NONSGML v1.0//EN
CALSCALE:GREGORIAN
METHOD:PUBLISH
X-WR-CALNAME:Special Compass
X-ORIGINAL-URL:https://specialcompass.org/events
X-WR-CALDESC:Events for Special Compass
BEGIN:VTIMEZONE
TZID:America/New_York
BEGIN:DAYLIGHT
TZOFFSETFROM:-0500
TZOFFSETTO:-0400
TZNAME:EDT
DTSTART:20260308T070000
END:DAYLIGHT
BEGIN:STANDARD
TZOFFSETFROM:-0400
TZOFFSETTO:-0500
TZNAME:EST
DTSTART:20261101T060000
END:STANDARD
END:VTIMEZONE
BEGIN:VEVENT
DTSTART;TZID=America/New_York:20261112T080000
DTEND;TZID=America/New_York:20261121T170000
DTSTAMP:20260424T012042
CREATED:20260309T013115Z
LAST-MODIFIED:20260309T014445Z
UID:779-1794470400-1795280400@specialcompass.org
SUMMARY:The Great World Race 2026
DESCRIPTION:7 MARATHONS\, 7 CONTINENTS\, 1 WEEK. \n\n\n\n\nJoin us for the adventure and challenge of a lifetime. Limited spots available. November 2026. \nWelcome to the The Great World Race ™\, the most exciting new event on the international running calendar. \nOver a seven-day period from November 15th-21st 2026\, competitors have an opportunity to complete a lifetime goal of running a marathon on each of the 7 continents\, starting at the end of the world: Antarctica. \nThe registration fee not only includes travel by charter plane\, but medical insurance* for the adventure. Sign up today and join the Global Marathon Club ™ by completing a marathon on all 7 continents in 7 days. We look forward to bringing you on a trip of a lifetime. \nMany participants in The Great World Race say it’s a marking point in their life: \nThere’s their life before The Great World Race and after.
URL:https://specialcompass.org/events/event/the-great-world-race-2026/
LOCATION:FL
ATTACH;FMTTYPE=image/webp:https://specialcompass.org/events/wp-content/uploads/2026/03/the-great-world-race.webp
END:VEVENT
BEGIN:VEVENT
DTSTART;TZID=America/New_York:20260816T065000
DTEND;TZID=America/New_York:20260816T130000
DTSTAMP:20260424T012042
CREATED:20260420T204024Z
LAST-MODIFIED:20260420T211138Z
UID:786-1786863000-1786885200@specialcompass.org
SUMMARY:The City Bikes Key Largo Triathlon 2026
DESCRIPTION:A destination race in paradise!!  The City Bikes Key Largo Triathlon is set at world famous John Pennekamp Coral Reef State Park in Key Largo (just a short drive from Miami) and will take place on August 16\, 2026. This event will feature an Olympic and Sprint distance Triathlon and Duathlon\, as well as an Olympic distance Aquabike race. Come for the weekend or make it an escape. The flat calm\, crystal clear water is calling your name! \nThe picturesque swim takes place at the main beach at John Pennekamp Coral Reef State Park (MM 102.5). The beautiful clear salt water with no current\, will be warm and relatively shallow. Your bike will be out and back on Overseas Highway/Card Sound Road. The 3.5 or 6.2 run takes you through a lovely\, laid back Florida Keys neighborhood where you will take in the sights of the colorful conch houses in a relaxed atmosphere. \nFinish back at John Pennekamp Coral Reef State Park and bask in the glory as you receive your corral reef finisher medal. There will be hand-crafted\, “reef” awards 3 deep for age-groups to 80+!
URL:https://specialcompass.org/events/event/the-city-bikes-key-largo-triathlon-2026/
LOCATION:Key Largo Triathlon\, Key Largo\, FL\, 33037\, United States
ATTACH;FMTTYPE=image/webp:https://specialcompass.org/events/wp-content/uploads/2026/04/Key-Largo-Triathlon-2026.webp
END:VEVENT
BEGIN:VEVENT
DTSTART;TZID=America/New_York:20260530T080000
DTEND;TZID=America/New_York:20260530T170000
DTSTAMP:20260424T012042
CREATED:20251117T183500Z
LAST-MODIFIED:20251221T044855Z
UID:733-1780128000-1780160400@specialcompass.org
SUMMARY:Special Compass 8th Annual Golf Tournament
DESCRIPTION:Special Compass creates life‑changing experiences for the differently‑abled by promoting inclusion in the community using athletic events\, and building opportunities for independent living. Funds from the 8th Annual Golf Tournament support Special Compass Living — Phase One. \nPark once\, play hard\, and make a difference. Thank you for supporting Special Compass! \nDownload Brochure\n  \nSaturday\, May 30\, 2026\nDavie Golf Club — 8201 Nova Drive\, Davie\, FL 33324 \nRegister For the 8th Annual Golf Tournament Fundraiser\nJoin us for a great day of golf supporting Special Compass. Get a foursome together or come on your own\, you won’t want to miss it! \nRegister here \nRegistration Includes\n\nTournament Play\nPlayer Gift Bag\nSnacks & Beverages on Course\nLunch & Drinks at Twin Peaks\, Davie\, immediately following event\n\nContests\n\nHole‑In‑One\nLongest Drive\nBall Launcher\n\nSchedule of Events\n\n7:00 AM — Tournament Registration (Continental Breakfast served)\n8:00 AM — Shotgun Start\n~1:00 PM — Lunch & Awards (Twin Peaks\, Davie)\n\nParticipation Fees\n\nIndividual Golfer — $150\nFoursome — $540\nLunch Only — $30\nIf you arrange a foursome\, please include player information for all four golfers (names & emails). Individual players will be paired as needed.\n\nSponsorship Levels\nPresenting Sponsor — $25\,000 \n\nThree (3) Foursomes at Tournament\nGolf Foursome After Event at Davie Golf Club\nPremium Golf Balls\nFull Page Ad in Program\nBanner on Golf Course\nT-Sign\n\nSupporting Sponsor — $15\,000 \n\nTwo (2) Foursomes at Tournament\nFour Gift Bags\nPremium Golf Balls\nHalf Page Ad in Program\nBanner on Golf Course\nT-Sign\n\nCommunity Sponsor — $10\,000 \n\nTwo (2) Foursomes at Tournament\nBall Launcher Sponsor\nPremium Golf Balls\nQuarter Page Ad in Program\nT-Sign\n\nGolf Sponsor — $7\,500 \n\nTwo (2) Foursomes at Tournament\nPremium Golf Balls\nDrink Station Sign\nLogo in Program\nT-Sign\n\nCompass Sponsor — $5\,000 \n\nTwo (2) Foursomes at Tournament\nLogo in Program\nLongest Drive Sponsor\nT-Sign\n\nPutter Sponsor — $2\,500 \n\nGolf Foursome\nDrink Station Sign\nTee Sign\nSpecial Mention in Program\n\nAdditional Sponsorships \n\nShirt Sponsor — $3\,000\nHole‑In‑One Sponsor — $2\,000\nGolf Ball Sponsor — $1\,000\nBall Launcher Sponsor — $500\nPutting Green Sponsor — $500\nLongest Drive Sponsor — $500\nBreakfast Sponsor — $500\nDrink Station Sponsor — $250\nT-Sign Sponsor — $125\n\nRegister here \n  \nPayment & Notifications \n\nConfirmation email to the purchaser with full summary.\nAdmin notifications of each registration and payment will be sent to:\n\nJim Sayih — Jim@SpecialCompass.org\nLinda Brown‑Doriot — Lindabrownevents@aol.com\n\n\n\nDeadlines\n\nFinal sponsor/player payments due: May 1\, 2026\nAll sponsors photo ready material due: April 20\, 2026\n\nContact\nGolf Chairs\nJim Sayih — 305.297.5328 — Jim@SpecialCompass.org\nFred Burgess — Fred@dmdventures.com\nJack Flechner — Jack@dmdventures.com \nGolf Tournament Coordinator\nLinda Brown‑Doriot — 954.288.7201 — Lindabrownevents@aol.com
URL:https://specialcompass.org/events/event/special-compass-8th-annual-golf-tournament/
LOCATION:Davie Gold Club\, 8201 Nova Dr.\, Davie\, FL\, 33324\, United States
ATTACH;FMTTYPE=image/webp:https://specialcompass.org/events/wp-content/uploads/2025/11/golf-tournament.webp
END:VEVENT
BEGIN:VEVENT
DTSTART;TZID=America/New_York:20260426T060000
DTEND;TZID=America/New_York:20260426T130000
DTSTAMP:20260424T012042
CREATED:20260309T014350Z
LAST-MODIFIED:20260309T014350Z
UID:782-1777183200-1777208400@specialcompass.org
SUMMARY:Move With MADD & MADD Dash Fort Lauderdale 5K
DESCRIPTION:Together We Can End Impaired Driving For Good. The 2026 Move With MADD & MADD DASH Fort Lauderdale 5K is Mothers Against Drunk Driving (MADD)’s signature fundraising event to help us raise awareness and funds to end impaired driving for good. Join us as we celebrate 15 years of this event! Join the movement to ensure safer roads in our community. Register and donate TODAY to help save more lives!
URL:https://specialcompass.org/events/event/move-with-madd-madd-dash-fort-lauderdale-5k/
LOCATION:SE 1st Ave\, Fort Lauderdale\, SE 1st Ave. & Las Olas Blvd.\, Fort Lauderdale\, FL\, United States
ATTACH;FMTTYPE=image/webp:https://specialcompass.org/events/wp-content/uploads/2026/03/move-with-madd.webp
END:VEVENT
END:VCALENDAR